BEGIN:VCALENDAR
VERSION:2.0
PRODID:-// - ECPv6.15.20//NONSGML v1.0//EN
CALSCALE:GREGORIAN
METHOD:PUBLISH
X-ORIGINAL-URL:https://www.tskmalmen.se
X-WR-CALDESC:Events for 
REFRESH-INTERVAL;VALUE=DURATION:PT1H
X-Robots-Tag:noindex
X-PUBLISHED-TTL:PT1H
BEGIN:VTIMEZONE
TZID:Europe/Stockholm
BEGIN:DAYLIGHT
TZOFFSETFROM:+0100
TZOFFSETTO:+0200
TZNAME:CEST
DTSTART:20230326T010000
END:DAYLIGHT
BEGIN:STANDARD
TZOFFSETFROM:+0200
TZOFFSETTO:+0100
TZNAME:CET
DTSTART:20231029T010000
END:STANDARD
BEGIN:DAYLIGHT
TZOFFSETFROM:+0100
TZOFFSETTO:+0200
TZNAME:CEST
DTSTART:20240331T010000
END:DAYLIGHT
BEGIN:STANDARD
TZOFFSETFROM:+0200
TZOFFSETTO:+0100
TZNAME:CET
DTSTART:20241027T010000
END:STANDARD
BEGIN:DAYLIGHT
TZOFFSETFROM:+0100
TZOFFSETTO:+0200
TZNAME:CEST
DTSTART:20250330T010000
END:DAYLIGHT
BEGIN:STANDARD
TZOFFSETFROM:+0200
TZOFFSETTO:+0100
TZNAME:CET
DTSTART:20251026T010000
END:STANDARD
END:VTIMEZONE
BEGIN:VEVENT
DTSTART;TZID=Europe/Stockholm:20240805T090000
DTEND;TZID=Europe/Stockholm:20240808T150000
DTSTAMP:20260423T132430
CREATED:20240531T141010Z
LAST-MODIFIED:20240614T102118Z
UID:3826-1722848400-1723129200@www.tskmalmen.se
SUMMARY:Sommarläger vecka 32
DESCRIPTION:
URL:https://www.tskmalmen.se/event/sommarlager-vecka-32/
LOCATION:TSK-malmen\, Södra Fiskartorpsvägen 20\, Stockholm\, 11433\, Sweden
CATEGORIES:Läger
ATTACH;FMTTYPE=image/jpeg:https://media.tskmalmen.se/2024/05/Bild4.jpg
END:VEVENT
BEGIN:VEVENT
DTSTART;TZID=Europe/Stockholm:20240812T160000
DTEND;TZID=Europe/Stockholm:20240815T190000
DTSTAMP:20260423T132430
CREATED:20240614T102417Z
LAST-MODIFIED:20240617T145228Z
UID:3856-1723478400-1723748400@www.tskmalmen.se
SUMMARY:Sommarläger vecka 33
DESCRIPTION:
URL:https://www.tskmalmen.se/event/sommarlager-vecka-33/
LOCATION:TSK-malmen\, Södra Fiskartorpsvägen 20\, Stockholm\, 11433\, Sweden
CATEGORIES:Läger
ATTACH;FMTTYPE=image/jpeg:https://media.tskmalmen.se/2024/06/Bild5.jpg
END:VEVENT
BEGIN:VEVENT
DTSTART;VALUE=DATE:20240826
DTEND;VALUE=DATE:20240902
DTSTAMP:20260423T132430
CREATED:20240614T102821Z
LAST-MODIFIED:20240614T102821Z
UID:3858-1724630400-1725235199@www.tskmalmen.se
SUMMARY:Första träningstillfället Ht-24
DESCRIPTION:
URL:https://www.tskmalmen.se/event/forsta-traningstillfallet-ht-24/
LOCATION:TSK-malmen\, Södra Fiskartorpsvägen 20\, Stockholm\, 11433\, Sweden
CATEGORIES:Deltagare i verksamheten
ATTACH;FMTTYPE=image/png:https://media.tskmalmen.se/2020/06/cropped-CANVAS_LOGOTYPE-2.png
END:VEVENT
END:VCALENDAR