BEGIN:VCALENDAR
VERSION:2.0
PRODID:-// - ECPv6.15.20//NONSGML v1.0//EN
CALSCALE:GREGORIAN
METHOD:PUBLISH
X-ORIGINAL-URL:https://www.tskmalmen.se
X-WR-CALDESC:Events for 
REFRESH-INTERVAL;VALUE=DURATION:PT1H
X-Robots-Tag:noindex
X-PUBLISHED-TTL:PT1H
BEGIN:VTIMEZONE
TZID:Europe/Stockholm
BEGIN:DAYLIGHT
TZOFFSETFROM:+0100
TZOFFSETTO:+0200
TZNAME:CEST
DTSTART:20230326T010000
END:DAYLIGHT
BEGIN:STANDARD
TZOFFSETFROM:+0200
TZOFFSETTO:+0100
TZNAME:CET
DTSTART:20231029T010000
END:STANDARD
BEGIN:DAYLIGHT
TZOFFSETFROM:+0100
TZOFFSETTO:+0200
TZNAME:CEST
DTSTART:20240331T010000
END:DAYLIGHT
BEGIN:STANDARD
TZOFFSETFROM:+0200
TZOFFSETTO:+0100
TZNAME:CET
DTSTART:20241027T010000
END:STANDARD
BEGIN:DAYLIGHT
TZOFFSETFROM:+0100
TZOFFSETTO:+0200
TZNAME:CEST
DTSTART:20250330T010000
END:DAYLIGHT
BEGIN:STANDARD
TZOFFSETFROM:+0200
TZOFFSETTO:+0100
TZNAME:CET
DTSTART:20251026T010000
END:STANDARD
END:VTIMEZONE
BEGIN:VEVENT
DTSTART;VALUE=DATE:20240501
DTEND;VALUE=DATE:20240801
DTSTAMP:20260423T120028
CREATED:20240430T094829Z
LAST-MODIFIED:20240430T094829Z
UID:3807-1714521600-1722470399@www.tskmalmen.se
SUMMARY:Intresseanmälan för att börja träna hos Tsk HT-24
DESCRIPTION:Detta formulär är till för dig som vill lämna en intresseanmälan till höstens träningar. Vänligen observera att detta inte garantera någon plats utan plats till verksamheten ges endast i mån av platser som blivit över från befintliga deltagare. \nBarn födda 2017-2018:\n– De flesta kommer bli erbjudna en plats 14.00 en vardag tis-fre\n– Ingen 2017-2018 kommer bli erbjuden en plats 15.00 eller senare\n– Vid många anmälningar så kommer alla inte bli erbjudna en plats. Då går vi i kronologisk ordning\, dvs de som är äldst erbjuds plats först. \nBarn/ungdomar födda 2008-2015:\n– Här har vi väldigt få platser att erbjuda\n– Först i mitten av september 2023 vet vi vilka (få) platser vi har att erbjuda \nNär du ställer dig i kö till verksamheten accepterar du också klubbens värdegrund\, som är länkad längst ner i detta formulär.
URL:https://www.tskmalmen.se/event/intresseanmalan-for-att-borja-trana-hos-tsk-ht-24/
LOCATION:TSK-malmen\, Södra Fiskartorpsvägen 20\, Stockholm\, 11433\, Sweden
ATTACH;FMTTYPE=image/png:https://media.tskmalmen.se/2020/06/cropped-CANVAS_LOGOTYPE-2.png
END:VEVENT
BEGIN:VEVENT
DTSTART;VALUE=DATE:20240517
DTEND;VALUE=DATE:20240610
DTSTAMP:20260423T120028
CREATED:20240423T121355Z
LAST-MODIFIED:20240516T105542Z
UID:3775-1715904000-1717977599@www.tskmalmen.se
SUMMARY:Återanmälan till höstterminen för befintliga deltagare i verksamheten öppnar
DESCRIPTION:Mellan den 17 maj och 10 juni måste alla befintliga deltagare säkra sin plats till höstens träningar
URL:https://www.tskmalmen.se/event/ateranmalan-till-hostterminen-for-befintliga-deltagare-i-verksamheten/
CATEGORIES:Deltagare i verksamheten
ATTACH;FMTTYPE=image/png:https://media.tskmalmen.se/2020/06/cropped-CANVAS_LOGOTYPE-1.png
END:VEVENT
BEGIN:VEVENT
DTSTART;VALUE=DATE:20240603
DTEND;VALUE=DATE:20240606
DTSTAMP:20260423T120028
CREATED:20240531T135234Z
LAST-MODIFIED:20240531T135234Z
UID:3820-1717372800-1717631999@www.tskmalmen.se
SUMMARY:Sista träningen för VT-24
DESCRIPTION:
URL:https://www.tskmalmen.se/event/sista-traningen-for-vt-24/
LOCATION:TSK-malmen\, Södra Fiskartorpsvägen 20\, Stockholm\, 11433\, Sweden
CATEGORIES:Deltagare i verksamheten
ATTACH;FMTTYPE=image/png:https://media.tskmalmen.se/2020/06/cropped-CANVAS_LOGOTYPE-2.png
END:VEVENT
BEGIN:VEVENT
DTSTART;VALUE=DATE:20240606
DTEND;VALUE=DATE:20240607
DTSTAMP:20260423T120028
CREATED:20240423T124331Z
LAST-MODIFIED:20240423T124331Z
UID:3793-1717632000-1717718399@www.tskmalmen.se
SUMMARY:Inställd träning
DESCRIPTION:Dagens träning är inställd pga av nationaldag
URL:https://www.tskmalmen.se/event/installd-traning-2/
LOCATION:TSK-malmen\, Södra Fiskartorpsvägen 20\, Stockholm\, 11433\, Sweden
CATEGORIES:Deltagare i verksamheten
ATTACH;FMTTYPE=image/png:https://media.tskmalmen.se/2020/06/cropped-CANVAS_LOGOTYPE-2.png
END:VEVENT
BEGIN:VEVENT
DTSTART;VALUE=DATE:20240607
DTEND;VALUE=DATE:20240608
DTSTAMP:20260423T120028
CREATED:20240531T135342Z
LAST-MODIFIED:20240531T135342Z
UID:3822-1717718400-1717804799@www.tskmalmen.se
SUMMARY:sista träningstillfället VT-24
DESCRIPTION:
URL:https://www.tskmalmen.se/event/sista-traningstillfallet-vt-24/
LOCATION:TSK-malmen\, Södra Fiskartorpsvägen 20\, Stockholm\, 11433\, Sweden
CATEGORIES:Deltagare i verksamheten
ATTACH;FMTTYPE=image/png:https://media.tskmalmen.se/2020/06/cropped-CANVAS_LOGOTYPE-2.png
END:VEVENT
BEGIN:VEVENT
DTSTART;VALUE=DATE:20240609
DTEND;VALUE=DATE:20240610
DTSTAMP:20260423T120028
CREATED:20240423T124440Z
LAST-MODIFIED:20240423T124440Z
UID:3795-1717891200-1717977599@www.tskmalmen.se
SUMMARY:Terminens sista träningstillfälle
DESCRIPTION:
URL:https://www.tskmalmen.se/event/terminens-sista-traningstillfalle/
LOCATION:TSK-malmen\, Södra Fiskartorpsvägen 20\, Stockholm\, 11433\, Sweden
CATEGORIES:Deltagare i verksamheten
ATTACH;FMTTYPE=image/png:https://media.tskmalmen.se/2020/06/cropped-CANVAS_LOGOTYPE-2.png
END:VEVENT
BEGIN:VEVENT
DTSTART;TZID=Europe/Stockholm:20240610T140000
DTEND;TZID=Europe/Stockholm:20240613T160000
DTSTAMP:20260423T120028
CREATED:20240423T120503Z
LAST-MODIFIED:20240423T120503Z
UID:3764-1718028000-1718294400@www.tskmalmen.se
SUMMARY:Sommarläger vecka 24 för barn födda 2016-2017
DESCRIPTION:Varmt välkomna till sommarlägret vecka 24. Vi kommer tillsammans spela två timmar tennis och träning. Passet kan vara uppdelat med tennis och med rörelseaktivitet exempelvis fotboll\, handboll och annat. Vi kör mellan tiderna 14:00-16:00 och träningen är begränsad till 24 deltagare.
URL:https://www.tskmalmen.se/event/sommarlager-vecka-24-for-barn-fodda-2016-2017/
LOCATION:TSK-malmen\, Södra Fiskartorpsvägen 20\, Stockholm\, 11433\, Sweden
CATEGORIES:Läger
ATTACH;FMTTYPE=image/jpeg:https://media.tskmalmen.se/2024/04/Affischer-sommarlager.jpg
END:VEVENT
BEGIN:VEVENT
DTSTART;TZID=Europe/Stockholm:20240610T160000
DTEND;TZID=Europe/Stockholm:20240613T190000
DTSTAMP:20260423T120028
CREATED:20240423T120855Z
LAST-MODIFIED:20240423T120958Z
UID:3768-1718035200-1718305200@www.tskmalmen.se
SUMMARY:Sommarläger v.24 för barn i verksamheten
DESCRIPTION:Hej. \nVälkomna till sommarläger vecka 24. Detta är ett tre timmars läger där vi mixar mellan tennis och övrig idrott beroende på antalet anmälningar. Vi kommer både köra utomhus samt inomhus och vi anpassar grupperna efter nivå. Vi kör träning mellan klockan 16:00-19:00.
URL:https://www.tskmalmen.se/event/sommarlager-v-24-for-barn-i-verksamheten/
LOCATION:TSK-malmen\, Södra Fiskartorpsvägen 20\, Stockholm\, 11433\, Sweden
CATEGORIES:Läger
ATTACH;FMTTYPE=image/jpeg:https://media.tskmalmen.se/2024/04/Bild2.jpg
END:VEVENT
BEGIN:VEVENT
DTSTART;TZID=Europe/Stockholm:20240617T090000
DTEND;TZID=Europe/Stockholm:20240620T150000
DTSTAMP:20260423T120028
CREATED:20240423T121208Z
LAST-MODIFIED:20240423T121208Z
UID:3772-1718614800-1718895600@www.tskmalmen.se
SUMMARY:Sommarläger vecka 25
DESCRIPTION:Hej. \nVälkomna till sommarläger vecka 25. Detta är ett heldagsläger där vi mixar mellan tennis och övrig idrott beroende på antalet anmälningar. Vi kommer både köra utomhus samt inomhus och vi anpassar grupperna efter nivå. Vi kör träning mellan klockan 09:00-15:00. Lunch från restaurang oktav är inräknat i priset.
URL:https://www.tskmalmen.se/event/sommarlager-vecka-25/
LOCATION:TSK-malmen\, Södra Fiskartorpsvägen 20\, Stockholm\, 11433\, Sweden
CATEGORIES:Läger
ATTACH;FMTTYPE=image/jpeg:https://media.tskmalmen.se/2024/04/Bild3.jpg
END:VEVENT
BEGIN:VEVENT
DTSTART;TZID=Europe/Stockholm:20240805T090000
DTEND;TZID=Europe/Stockholm:20240808T150000
DTSTAMP:20260423T120028
CREATED:20240531T141010Z
LAST-MODIFIED:20240614T102118Z
UID:3826-1722848400-1723129200@www.tskmalmen.se
SUMMARY:Sommarläger vecka 32
DESCRIPTION:
URL:https://www.tskmalmen.se/event/sommarlager-vecka-32/
LOCATION:TSK-malmen\, Södra Fiskartorpsvägen 20\, Stockholm\, 11433\, Sweden
CATEGORIES:Läger
ATTACH;FMTTYPE=image/jpeg:https://media.tskmalmen.se/2024/05/Bild4.jpg
END:VEVENT
BEGIN:VEVENT
DTSTART;TZID=Europe/Stockholm:20240812T160000
DTEND;TZID=Europe/Stockholm:20240815T190000
DTSTAMP:20260423T120028
CREATED:20240614T102417Z
LAST-MODIFIED:20240617T145228Z
UID:3856-1723478400-1723748400@www.tskmalmen.se
SUMMARY:Sommarläger vecka 33
DESCRIPTION:
URL:https://www.tskmalmen.se/event/sommarlager-vecka-33/
LOCATION:TSK-malmen\, Södra Fiskartorpsvägen 20\, Stockholm\, 11433\, Sweden
CATEGORIES:Läger
ATTACH;FMTTYPE=image/jpeg:https://media.tskmalmen.se/2024/06/Bild5.jpg
END:VEVENT
BEGIN:VEVENT
DTSTART;VALUE=DATE:20240826
DTEND;VALUE=DATE:20240902
DTSTAMP:20260423T120028
CREATED:20240614T102821Z
LAST-MODIFIED:20240614T102821Z
UID:3858-1724630400-1725235199@www.tskmalmen.se
SUMMARY:Första träningstillfället Ht-24
DESCRIPTION:
URL:https://www.tskmalmen.se/event/forsta-traningstillfallet-ht-24/
LOCATION:TSK-malmen\, Södra Fiskartorpsvägen 20\, Stockholm\, 11433\, Sweden
CATEGORIES:Deltagare i verksamheten
ATTACH;FMTTYPE=image/png:https://media.tskmalmen.se/2020/06/cropped-CANVAS_LOGOTYPE-2.png
END:VEVENT
BEGIN:VEVENT
DTSTART;VALUE=DATE:20241028
DTEND;VALUE=DATE:20241104
DTSTAMP:20260423T120028
CREATED:20240730T101735Z
LAST-MODIFIED:20240730T101735Z
UID:3871-1730073600-1730678399@www.tskmalmen.se
SUMMARY:Träningsuppehåll pga av höstlov
DESCRIPTION:All ordinarie träning är inställd pga av höstlov.
URL:https://www.tskmalmen.se/event/traningsuppehall-pga-av-hostlov/
LOCATION:TSK-malmen\, Södra Fiskartorpsvägen 20\, Stockholm\, 11433\, Sweden
CATEGORIES:Deltagare i verksamheten
ATTACH;FMTTYPE=image/png:https://media.tskmalmen.se/2020/06/cropped-CANVAS_LOGOTYPE-2.png
END:VEVENT
BEGIN:VEVENT
DTSTART;VALUE=DATE:20241209
DTEND;VALUE=DATE:20241216
DTSTAMP:20260423T120028
CREATED:20240730T102353Z
LAST-MODIFIED:20240730T102353Z
UID:3873-1733702400-1734307199@www.tskmalmen.se
SUMMARY:Sista träningsveckan
DESCRIPTION:Detta är sista träningsveckan för samtliga grupper i juniorverksamheten\, vilket innebär att föräldrar är välkomna att sitta på läktaren på banan.
URL:https://www.tskmalmen.se/event/sista-traningsveckan/
LOCATION:TSK-malmen\, Södra Fiskartorpsvägen 20\, Stockholm\, 11433\, Sweden
CATEGORIES:Deltagare i verksamheten
ATTACH;FMTTYPE=image/png:https://media.tskmalmen.se/2020/06/cropped-CANVAS_LOGOTYPE-2.png
END:VEVENT
END:VCALENDAR