BEGIN:VCALENDAR
VERSION:2.0
PRODID:-// - ECPv6.15.20//NONSGML v1.0//EN
CALSCALE:GREGORIAN
METHOD:PUBLISH
X-ORIGINAL-URL:https://www.tskmalmen.se
X-WR-CALDESC:Events for 
REFRESH-INTERVAL;VALUE=DURATION:PT1H
X-Robots-Tag:noindex
X-PUBLISHED-TTL:PT1H
BEGIN:VTIMEZONE
TZID:Europe/Stockholm
BEGIN:DAYLIGHT
TZOFFSETFROM:+0100
TZOFFSETTO:+0200
TZNAME:CEST
DTSTART:20230326T010000
END:DAYLIGHT
BEGIN:STANDARD
TZOFFSETFROM:+0200
TZOFFSETTO:+0100
TZNAME:CET
DTSTART:20231029T010000
END:STANDARD
BEGIN:DAYLIGHT
TZOFFSETFROM:+0100
TZOFFSETTO:+0200
TZNAME:CEST
DTSTART:20240331T010000
END:DAYLIGHT
BEGIN:STANDARD
TZOFFSETFROM:+0200
TZOFFSETTO:+0100
TZNAME:CET
DTSTART:20241027T010000
END:STANDARD
BEGIN:DAYLIGHT
TZOFFSETFROM:+0100
TZOFFSETTO:+0200
TZNAME:CEST
DTSTART:20250330T010000
END:DAYLIGHT
BEGIN:STANDARD
TZOFFSETFROM:+0200
TZOFFSETTO:+0100
TZNAME:CET
DTSTART:20251026T010000
END:STANDARD
END:VTIMEZONE
BEGIN:VEVENT
DTSTART;VALUE=DATE:20240603
DTEND;VALUE=DATE:20240604
DTSTAMP:20260423T132626
CREATED:20240531T140756Z
LAST-MODIFIED:20240531T140756Z
UID:3824-1717372800-1717459199@www.tskmalmen.se
SUMMARY:Anmälan till sommarläger vecka 24 stänger
DESCRIPTION:
URL:https://www.tskmalmen.se/event/anmalan-till-sommarlager-vecka-24-stanger/
LOCATION:TSK-malmen\, Södra Fiskartorpsvägen 20\, Stockholm\, 11433\, Sweden
CATEGORIES:Läger
ATTACH;FMTTYPE=image/jpeg:https://media.tskmalmen.se/2024/04/Bild2.jpg
END:VEVENT
BEGIN:VEVENT
DTSTART;TZID=Europe/Stockholm:20240529T171500
DTEND;TZID=Europe/Stockholm:20240529T190000
DTSTAMP:20260423T132626
CREATED:20240516T105218Z
LAST-MODIFIED:20240516T105218Z
UID:3815-1717002900-1717009200@www.tskmalmen.se
SUMMARY:Sommaravslutning för juniorerna
DESCRIPTION:Nu är det dags för vårens sommaravslutning för juniorerna. Två roliga timmar med mycket tennis och andra roliga aktiviteter. För att vi ska kunna planera aktiviteten på bästa sätt så vill vi gärna att ni anmäler er via nedanstående länk.
URL:https://www.tskmalmen.se/event/sommaravslutning-for-juniorerna/
LOCATION:TSK-malmen\, Södra Fiskartorpsvägen 20\, Stockholm\, 11433\, Sweden
CATEGORIES:Deltagare i verksamheten
ATTACH;FMTTYPE=image/jpeg:https://media.tskmalmen.se/2024/05/Bild1.jpg
END:VEVENT
BEGIN:VEVENT
DTSTART;TZID=Europe/Stockholm:20240512T120000
DTEND;TZID=Europe/Stockholm:20240512T170000
DTSTAMP:20260423T132626
CREATED:20240429T115516Z
LAST-MODIFIED:20240429T115516Z
UID:3799-1715515200-1715533200@www.tskmalmen.se
SUMMARY:Träning inställd pga av kristihimmelsfärd
DESCRIPTION:All ordinarie juniorträning är inställd pga av kristihimmelsfärd
URL:https://www.tskmalmen.se/event/traning-installd-pga-av-kristihimmelsfard/
LOCATION:TSK-malmen\, Södra Fiskartorpsvägen 20\, Stockholm\, 11433\, Sweden
CATEGORIES:Deltagare i verksamheten
ATTACH;FMTTYPE=image/png:https://media.tskmalmen.se/2020/06/cropped-CANVAS_LOGOTYPE-2.png
END:VEVENT
BEGIN:VEVENT
DTSTART;VALUE=DATE:20240509
DTEND;VALUE=DATE:20240511
DTSTAMP:20260423T132626
CREATED:20240423T124210Z
LAST-MODIFIED:20240423T124210Z
UID:3791-1715212800-1715385599@www.tskmalmen.se
SUMMARY:Inställd träning
DESCRIPTION:Dagens träning är inställd pga av kristi himmelsfärds dag
URL:https://www.tskmalmen.se/event/installd-traning/
LOCATION:TSK-malmen\, Södra Fiskartorpsvägen 20\, Stockholm\, 11433\, Sweden
CATEGORIES:Deltagare i verksamheten
ATTACH;FMTTYPE=image/png:https://media.tskmalmen.se/2020/06/cropped-CANVAS_LOGOTYPE-2.png
END:VEVENT
BEGIN:VEVENT
DTSTART;VALUE=DATE:20240501
DTEND;VALUE=DATE:20240502
DTSTAMP:20260423T132626
CREATED:20240423T123945Z
LAST-MODIFIED:20240423T123945Z
UID:3789-1714521600-1714607999@www.tskmalmen.se
SUMMARY:Ordinarie träning inställd
DESCRIPTION:Dagens träning är inställd pga av 1 maj.
URL:https://www.tskmalmen.se/event/ordinarie-traning-installd/
LOCATION:TSK-malmen\, Södra Fiskartorpsvägen 20\, Stockholm\, 11433\, Sweden
CATEGORIES:Deltagare i verksamheten
ATTACH;FMTTYPE=image/png:https://media.tskmalmen.se/2020/06/cropped-CANVAS_LOGOTYPE-2.png
END:VEVENT
END:VCALENDAR