BEGIN:VCALENDAR
VERSION:2.0
PRODID:-// - ECPv6.15.20//NONSGML v1.0//EN
CALSCALE:GREGORIAN
METHOD:PUBLISH
X-ORIGINAL-URL:https://www.tskmalmen.se
X-WR-CALDESC:Events for 
REFRESH-INTERVAL;VALUE=DURATION:PT1H
X-Robots-Tag:noindex
X-PUBLISHED-TTL:PT1H
BEGIN:VTIMEZONE
TZID:Europe/Stockholm
BEGIN:DAYLIGHT
TZOFFSETFROM:+0100
TZOFFSETTO:+0200
TZNAME:CEST
DTSTART:20230326T010000
END:DAYLIGHT
BEGIN:STANDARD
TZOFFSETFROM:+0200
TZOFFSETTO:+0100
TZNAME:CET
DTSTART:20231029T010000
END:STANDARD
BEGIN:DAYLIGHT
TZOFFSETFROM:+0100
TZOFFSETTO:+0200
TZNAME:CEST
DTSTART:20240331T010000
END:DAYLIGHT
BEGIN:STANDARD
TZOFFSETFROM:+0200
TZOFFSETTO:+0100
TZNAME:CET
DTSTART:20241027T010000
END:STANDARD
BEGIN:DAYLIGHT
TZOFFSETFROM:+0100
TZOFFSETTO:+0200
TZNAME:CEST
DTSTART:20250330T010000
END:DAYLIGHT
BEGIN:STANDARD
TZOFFSETFROM:+0200
TZOFFSETTO:+0100
TZNAME:CET
DTSTART:20251026T010000
END:STANDARD
END:VTIMEZONE
BEGIN:VEVENT
DTSTART;VALUE=DATE:20240501
DTEND;VALUE=DATE:20240801
DTSTAMP:20260423T103932
CREATED:20240430T094829Z
LAST-MODIFIED:20240430T094829Z
UID:3807-1714521600-1722470399@www.tskmalmen.se
SUMMARY:Intresseanmälan för att börja träna hos Tsk HT-24
DESCRIPTION:Detta formulär är till för dig som vill lämna en intresseanmälan till höstens träningar. Vänligen observera att detta inte garantera någon plats utan plats till verksamheten ges endast i mån av platser som blivit över från befintliga deltagare. \nBarn födda 2017-2018:\n– De flesta kommer bli erbjudna en plats 14.00 en vardag tis-fre\n– Ingen 2017-2018 kommer bli erbjuden en plats 15.00 eller senare\n– Vid många anmälningar så kommer alla inte bli erbjudna en plats. Då går vi i kronologisk ordning\, dvs de som är äldst erbjuds plats först. \nBarn/ungdomar födda 2008-2015:\n– Här har vi väldigt få platser att erbjuda\n– Först i mitten av september 2023 vet vi vilka (få) platser vi har att erbjuda \nNär du ställer dig i kö till verksamheten accepterar du också klubbens värdegrund\, som är länkad längst ner i detta formulär.
URL:https://www.tskmalmen.se/event/intresseanmalan-for-att-borja-trana-hos-tsk-ht-24/
LOCATION:TSK-malmen\, Södra Fiskartorpsvägen 20\, Stockholm\, 11433\, Sweden
ATTACH;FMTTYPE=image/png:https://media.tskmalmen.se/2020/06/cropped-CANVAS_LOGOTYPE-2.png
END:VEVENT
BEGIN:VEVENT
DTSTART;VALUE=DATE:20240517
DTEND;VALUE=DATE:20240610
DTSTAMP:20260423T103933
CREATED:20240423T121355Z
LAST-MODIFIED:20240516T105542Z
UID:3775-1715904000-1717977599@www.tskmalmen.se
SUMMARY:Återanmälan till höstterminen för befintliga deltagare i verksamheten öppnar
DESCRIPTION:Mellan den 17 maj och 10 juni måste alla befintliga deltagare säkra sin plats till höstens träningar
URL:https://www.tskmalmen.se/event/ateranmalan-till-hostterminen-for-befintliga-deltagare-i-verksamheten/
CATEGORIES:Deltagare i verksamheten
ATTACH;FMTTYPE=image/png:https://media.tskmalmen.se/2020/06/cropped-CANVAS_LOGOTYPE-1.png
END:VEVENT
BEGIN:VEVENT
DTSTART;VALUE=DATE:20240603
DTEND;VALUE=DATE:20240606
DTSTAMP:20260423T103933
CREATED:20240531T135234Z
LAST-MODIFIED:20240531T135234Z
UID:3820-1717372800-1717631999@www.tskmalmen.se
SUMMARY:Sista träningen för VT-24
DESCRIPTION:
URL:https://www.tskmalmen.se/event/sista-traningen-for-vt-24/
LOCATION:TSK-malmen\, Södra Fiskartorpsvägen 20\, Stockholm\, 11433\, Sweden
CATEGORIES:Deltagare i verksamheten
ATTACH;FMTTYPE=image/png:https://media.tskmalmen.se/2020/06/cropped-CANVAS_LOGOTYPE-2.png
END:VEVENT
END:VCALENDAR